BEGIN:VCALENDAR
VERSION:2.0
PRODID:-//Squarespace Inc/Squarespace 6//v6//EN
BEGIN:VEVENT
UID:59f7a81d24a69437aff5dab4@squarespace.com
DTSTAMP:20171030T230506Z
DTSTART:20171110T070000Z
DTEND:20171110T090000Z
SUMMARY:Auckland Jazz Orchestra with Caitlin Smith
GEO:-36.829226;174.798068
LOCATION:Vic Theatre\, 48 Victoria Road\, Auckland\, Auckland\, 0624\, New 
 Zealand
END:VEVENT
END:VCALENDAR
