BEGIN:VCALENDAR
VERSION:2.0
PRODID:-//Squarespace Inc/Squarespace 6//v6//EN
BEGIN:VEVENT
UID:5941e78b17bffc34acae186b@squarespace.com
DTSTAMP:20171030T223053Z
DTSTART:20170805T073000Z
DTEND:20170805T093000Z
SUMMARY:Auckland Jazz Orchestra with Caitlin Smith
GEO:-36.894109;174.933842
LOCATION:Uxbridge Creative Centre
END:VEVENT
END:VCALENDAR
