BEGIN:VCALENDAR
VERSION:2.0
PRODID:-//Squarespace Inc/Squarespace 6//v6//EN
BEGIN:VEVENT
UID:591ce896b3db2b5fb9b36537@squarespace.com
DTSTAMP:20170711T044651Z
DTSTART:20170725T073000Z
DTEND:20170725T100000Z
SUMMARY:Raising Funds for Fox: Auckland Jazz Orchestra & Queen City Big Ban
 d
GEO:-36.869791;174.712544
LOCATION:Auckland Jazz & Blues Club\, 1136 Great North Rd\, Auckland\, Auck
 land\, 1022\, New Zealand
END:VEVENT
END:VCALENDAR
