BEGIN:VCALENDAR
VERSION:2.0
PRODID:-//Squarespace Inc/Squarespace 6//v6//EN
BEGIN:VEVENT
UID:5bd79ff2f9619ae146502d0c@squarespace.com
DTSTAMP:20190116T045009Z
DTSTART:20181204T063000Z
DTEND:20181204T090000Z
SUMMARY:Auckland Jazz &amp\; Blues Club
GEO:-36.869792;174.712509
LOCATION:Point Chevalier RSA\, 1136 Great North Rd\, Auckland\, Auckland\, 
 1022\, New Zealand
END:VEVENT
END:VCALENDAR
