BEGIN:VCALENDAR
VERSION:2.0
PRODID:-//Squarespace Inc/Squarespace 6//v6//EN
BEGIN:VEVENT
UID:5b0d3b9603ce64b89565a1b8@squarespace.com
DTSTAMP:20180529T114033Z
DTSTART:20180627T080000Z
DTEND:20180627T100000Z
SUMMARY:AJO at CJC Creative Jazz Club
GEO:-36.858137;174.761674
LOCATION:Backbeat\, 100 Karangahape Road\, Auckland\, Auckland\, 1010\, New 
 Zealand
END:VEVENT
END:VCALENDAR
