BEGIN:VCALENDAR
VERSION:2.0
PRODID:-//Squarespace Inc/Squarespace 6//v6//EN
BEGIN:VEVENT
UID:5c3eb80140ec9a01b8d6bd45@squarespace.com
DTSTAMP:20190116T045256Z
DTSTART:20190120T000000Z
DTEND:20190120T030000Z
SUMMARY:Music in Parks: Jazz at The Rotunda
GEO:-36.858999;174.775665
LOCATION:Auckland Domain\, Auckland\, 1010\, New Zealand
END:VEVENT
END:VCALENDAR
