BEGIN:VCALENDAR
VERSION:2.0
PRODID:-//Squarespace Inc/Squarespace 6//v6//EN
BEGIN:VEVENT
UID:5dabcb51218aa17443adf83c@squarespace.com
DTSTAMP:20191020T025800Z
DTSTART:20191022T070000Z
DTEND:20191022T080000Z
SUMMARY:Jazz Spectacular: Allen Vizzutti\, Holly Hoffman\, AJO\, Rodger Fox 
 &amp\; More
GEO:-36.783558;174.773023
LOCATION:Bruce Mason Centre
END:VEVENT
END:VCALENDAR
