BEGIN:VCALENDAR
VERSION:2.0
PRODID:-//Squarespace Inc/Squarespace 6//v6//EN
BEGIN:VEVENT
UID:5dabc558b11ecf3bce27b56f@squarespace.com
DTSTAMP:20191020T023900Z
DTSTART:20191119T063000Z
DTEND:20191119T090000Z
SUMMARY:AJO With Caitlin Smith @ Auckland Jazz &amp\; Blues Club
GEO:-36.869604;174.7116
LOCATION:AJBC @ Pt Chev RSA\, 1169 Great North Road\, Auckland\, Auckland\, 
 1022\, New Zealand
END:VEVENT
END:VCALENDAR
