BEGIN:VCALENDAR
VERSION:2.0
PRODID:-//Squarespace Inc/Squarespace 6//v6//EN
BEGIN:VEVENT
UID:5dabc399c7261d25b37f5dbf@squarespace.com
DTSTAMP:20191020T023910Z
DTSTART:20191127T070000Z
DTEND:20191127T093000Z
SUMMARY:AJO With Caitlin Smith @ CJC Creative Jazz Club
GEO:-36.857933;174.756465
LOCATION:CJC Creative Jazz Club @ Anthology\, 375 Karangahape Road\, Auckla
 nd\, Auckland\, 1010\, New Zealand
END:VEVENT
END:VCALENDAR
